BEGIN:VCALENDAR
VERSION:2.0
PRODID:icalendar-ruby
CALSCALE:GREGORIAN
METHOD:PUBLISH
BEGIN:VEVENT
DTSTAMP:20260424T134728Z
UID:185-346241@lwmcumberland.org
DTSTART:20260507T150000Z
DTEND:20260507T170000Z
CLASS:PUBLIC
CREATED:20260423T122411
DESCRIPTION:
LAST-MODIFIED:20260423T122411
LOCATION:City Hall
SUMMARY:National Day of  Prayer
URL;VALUE=URI:https://www.lwmcumberland.org/events/national-day-of-prayer/2
 026-05-07
ATTACH;FILENAME=NDOP--2026.jpg;FMTTYPE=image/jpeg:https://dq5pwpg1q8ru0.clo
 udfront.net/2026/04/23/16/24/11/a42d582c-aebf-4cdc-aa4e-efad0aa34996/NDOP-
 -2026.jpg
END:VEVENT
END:VCALENDAR
