BEGIN:VCALENDAR
VERSION:2.0
PRODID:icalendar-ruby
CALSCALE:GREGORIAN
METHOD:PUBLISH
BEGIN:VEVENT
DTSTAMP:20260424T064708Z
UID:186-346290@lwmcumberland.org
DTSTART:20260429T220000Z
DTEND:20260429T230000Z
CLASS:PUBLIC
CREATED:20260423T123309
DESCRIPTION:We encourage you to walk in your neighborhood around your home 
 or your church and pray for those that you meet.  If you would like\, you
  are more than welcome to join us at Living Waters Ministries as we walk o
 ur neighborhood and pray.
LAST-MODIFIED:20260423T123309
LOCATION:30 E. Mary St.
SUMMARY:Neighborhood Prayer  Walk 
URL;VALUE=URI:https://www.lwmcumberland.org/events/neighborhood-prayer-walk
 /2026-04-29
ATTACH;FILENAME=Your-paragraph-text-5.png;FMTTYPE=image/png:https://dq5pwpg
 1q8ru0.cloudfront.net/2026/04/23/16/33/09/b7c05d79-7256-4740-b0be-3c4616f1
 4a12/Your-paragraph-text-5.png
END:VEVENT
END:VCALENDAR
